BEGIN:VCALENDAR
VERSION:2.0
PRODID:-//Tukios.com/
BEGIN:VEVENT
UID:27c41d28-38cd-4368-9309-23f310caa8d1@www.flagstaffmortuary.com
DTSTAMP:20260423T084459Z
DTSTART:20260504T160000Z
DTEND:20260504T170000Z
SUMMARY:Rosary
DESCRIPTION:
URL:https://www.flagstaffmortuary.com/obituaries/ryan-contreras
LOCATION: 1600 E Rte 66  Flagstaff AZ 86004
GEO:35.1953549;-111.6287116
END:VEVENT
END:VCALENDAR