BEGIN:VCALENDAR
VERSION:2.0
PRODID:-//Tukios.com/
BEGIN:VEVENT
UID:cb8aabed-672a-48b7-af77-45a510f413b6@www.flagstaffmortuary.com
DTSTAMP:20260423T085504Z
DTSTART:20260504T163000Z
DTEND:20260504T173000Z
SUMMARY:Mass
DESCRIPTION:
URL:https://www.flagstaffmortuary.com/obituaries/ryan-contreras
LOCATION: 1600 E Rte 66  Flagstaff AZ 86004
GEO:35.1953549;-111.6287116
END:VEVENT
END:VCALENDAR